Package: rcellminerData Version: 2.31.0 Command: /home/biocbuild/bbs-3.22-bioc/R/bin/R CMD check --install=check:rcellminerData.install-out.txt --library=/home/biocbuild/bbs-3.22-bioc/R/site-library --timings rcellminerData_2.31.0.tar.gz StartedAt: 2025-10-09 12:56:06 -0400 (Thu, 09 Oct 2025) EndedAt: 2025-10-09 12:59:55 -0400 (Thu, 09 Oct 2025) EllapsedTime: 228.8 seconds RetCode: 0 Status: WARNINGS CheckDir: rcellminerData.Rcheck Warnings: 2