Package: qPLEXdata Version: 1.25.0 Command: /home/biocbuild/bbs-3.21-bioc/R/bin/R CMD INSTALL qPLEXdata StartedAt: 2025-01-30 11:01:46 -0500 (Thu, 30 Jan 2025) EndedAt: 2025-01-30 11:02:21 -0500 (Thu, 30 Jan 2025) EllapsedTime: 35.2 seconds RetCode: 0 Status: OK