Package: prostateCancerTaylor Version: 1.37.0 Command: /home/biocbuild/bbs-3.22-bioc/R/bin/R CMD build --keep-empty-dirs --no-resave-data prostateCancerTaylor StartedAt: 2025-07-24 11:37:08 -0400 (Thu, 24 Jul 2025) EndedAt: 2025-07-24 11:37:20 -0400 (Thu, 24 Jul 2025) EllapsedTime: 12.2 seconds RetCode: 0 Status: OK PackageFile: prostateCancerTaylor_1.37.0.tar.gz PackageFileSize: 25.77 MiB