Package: pasilla Version: 1.37.0 Command: /home/biocbuild/bbs-3.22-bioc/R/bin/R CMD INSTALL pasilla StartedAt: 2025-07-22 11:00:57 -0400 (Tue, 22 Jul 2025) EndedAt: 2025-07-22 11:01:33 -0400 (Tue, 22 Jul 2025) EllapsedTime: 35.6 seconds RetCode: 0 Status: OK