Package: parathyroidSE Version: 1.45.1 Command: /home/biocbuild/bbs-3.21-bioc/R/bin/R CMD check --install=check:parathyroidSE.install-out.txt --library=/home/biocbuild/bbs-3.21-bioc/R/site-library --timings parathyroidSE_1.45.1.tar.gz StartedAt: 2025-01-30 12:30:50 -0500 (Thu, 30 Jan 2025) EndedAt: 2025-01-30 12:32:32 -0500 (Thu, 30 Jan 2025) EllapsedTime: 102.1 seconds RetCode: 0 Status: OK CheckDir: parathyroidSE.Rcheck Warnings: 0