Package: orthosData Version: 1.7.0 Command: /home/biocbuild/bbs-3.22-bioc/R/bin/R CMD check --install=check:orthosData.install-out.txt --library=/home/biocbuild/bbs-3.22-bioc/R/site-library --timings orthosData_1.7.0.tar.gz StartedAt: 2025-10-16 12:49:21 -0400 (Thu, 16 Oct 2025) EndedAt: 2025-10-16 12:52:44 -0400 (Thu, 16 Oct 2025) EllapsedTime: 202.6 seconds RetCode: 0 Status: OK CheckDir: orthosData.Rcheck Warnings: 0