Package: orthosData Version: 1.5.0 Command: /home/biocbuild/bbs-3.21-bioc/R/bin/R CMD INSTALL orthosData StartedAt: 2025-02-06 10:58:31 -0500 (Thu, 06 Feb 2025) EndedAt: 2025-02-06 10:58:58 -0500 (Thu, 06 Feb 2025) EllapsedTime: 27.2 seconds RetCode: 0 Status: OK