Package: orthosData Version: 1.5.0 Command: /home/biocbuild/bbs-3.21-bioc/R/bin/R CMD build --keep-empty-dirs --no-resave-data orthosData StartedAt: 2025-02-06 11:33:07 -0500 (Thu, 06 Feb 2025) EndedAt: 2025-02-06 11:33:45 -0500 (Thu, 06 Feb 2025) EllapsedTime: 38.5 seconds RetCode: 0 Status: OK PackageFile: orthosData_1.5.0.tar.gz PackageFileSize: 312 KiB