Package: oct4 Version: 1.25.0 Command: /home/biocbuild/bbs-3.22-bioc/R/bin/R CMD check --install=check:oct4.install-out.txt --library=/home/biocbuild/bbs-3.22-bioc/R/site-library --timings oct4_1.25.0.tar.gz StartedAt: 2025-09-25 12:52:54 -0400 (Thu, 25 Sep 2025) EndedAt: 2025-09-25 12:53:13 -0400 (Thu, 25 Sep 2025) EllapsedTime: 19.3 seconds RetCode: 0 Status: OK CheckDir: oct4.Rcheck Warnings: 0