Package: nmrdata Version: 0.99.2 Command: /home/biocbuild/bbs-3.22-bioc/R/bin/R CMD INSTALL nmrdata StartedAt: 2025-10-23 10:56:48 -0400 (Thu, 23 Oct 2025) EndedAt: 2025-10-23 10:56:49 -0400 (Thu, 23 Oct 2025) EllapsedTime: 1.5 seconds RetCode: 0 Status: OK