Package: nmrdata Version: 1.1.0 Command: /home/biocbuild/bbs-3.23-bioc/R/bin/R CMD INSTALL nmrdata StartedAt: 2025-11-11 10:56:49 -0500 (Tue, 11 Nov 2025) EndedAt: 2025-11-11 10:56:51 -0500 (Tue, 11 Nov 2025) EllapsedTime: 1.2 seconds RetCode: 0 Status: OK