Package: muscData Version: 1.21.0 Command: /home/biocbuild/bbs-3.21-bioc/R/bin/R CMD build --keep-empty-dirs --no-resave-data muscData StartedAt: 2025-02-13 11:31:33 -0500 (Thu, 13 Feb 2025) EndedAt: 2025-02-13 11:32:29 -0500 (Thu, 13 Feb 2025) EllapsedTime: 56.4 seconds RetCode: 0 Status: OK PackageFile: muscData_1.21.0.tar.gz PackageFileSize: 230.5 KiB