Package: muSpaData Version: 1.3.0 Command: /home/biocbuild/bbs-3.23-bioc/R/bin/R CMD check --install=check:muSpaData.install-out.txt --library=/home/biocbuild/bbs-3.23-bioc/R/site-library --timings muSpaData_1.3.0.tar.gz StartedAt: 2025-11-20 12:54:25 -0500 (Thu, 20 Nov 2025) EndedAt: 2025-11-20 12:57:49 -0500 (Thu, 20 Nov 2025) EllapsedTime: 203.4 seconds RetCode: 0 Status: OK CheckDir: muSpaData.Rcheck Warnings: 0