Package: msigdb Version: 1.15.0 Command: /home/biocbuild/bbs-3.21-bioc/R/bin/R CMD build --keep-empty-dirs --no-resave-data msigdb StartedAt: 2025-01-30 11:30:34 -0500 (Thu, 30 Jan 2025) EndedAt: 2025-01-30 11:38:22 -0500 (Thu, 30 Jan 2025) EllapsedTime: 468.0 seconds RetCode: 0 Status: OK PackageFile: msigdb_1.15.0.tar.gz PackageFileSize: 304.8 KiB