Package: microbiomeDataSets Version: 1.19.0 Command: /home/biocbuild/bbs-3.23-bioc/R/bin/R CMD build --keep-empty-dirs --no-resave-data microbiomeDataSets StartedAt: 2025-11-13 11:31:14 -0500 (Thu, 13 Nov 2025) EndedAt: 2025-11-13 11:31:57 -0500 (Thu, 13 Nov 2025) EllapsedTime: 43.4 seconds RetCode: 0 Status: OK PackageFile: microbiomeDataSets_1.19.0.tar.gz PackageFileSize: 234.9 KiB