Package: miRNATarget Version: 1.49.0 Command: /home/biocbuild/bbs-3.23-bioc/R/bin/R CMD INSTALL miRNATarget StartedAt: 2025-11-13 10:56:24 -0500 (Thu, 13 Nov 2025) EndedAt: 2025-11-13 10:56:30 -0500 (Thu, 13 Nov 2025) EllapsedTime: 6.4 seconds RetCode: 0 Status: OK