Package: miRNATarget Version: 1.49.0 Command: /home/biocbuild/bbs-3.23-bioc/R/bin/R CMD build --keep-empty-dirs --no-resave-data miRNATarget StartedAt: 2025-11-13 11:31:33 -0500 (Thu, 13 Nov 2025) EndedAt: 2025-11-13 11:31:44 -0500 (Thu, 13 Nov 2025) EllapsedTime: 11.7 seconds RetCode: 0 Status: OK PackageFile: miRNATarget_1.49.0.tar.gz PackageFileSize: 51.86 MiB