Package: methylclockData Version: 1.17.0 Command: /home/biocbuild/bbs-3.22-bioc/R/bin/R CMD INSTALL methylclockData StartedAt: 2025-07-24 11:03:37 -0400 (Thu, 24 Jul 2025) EndedAt: 2025-07-24 11:04:23 -0400 (Thu, 24 Jul 2025) EllapsedTime: 45.9 seconds RetCode: 0 Status: OK