Package: methylclockData Version: 1.15.0 Command: /home/biocbuild/bbs-3.21-bioc/R/bin/R CMD check --install=check:methylclockData.install-out.txt --library=/home/biocbuild/bbs-3.21-bioc/R/site-library --timings methylclockData_1.15.0.tar.gz StartedAt: 2025-01-30 12:21:51 -0500 (Thu, 30 Jan 2025) EndedAt: 2025-01-30 12:27:14 -0500 (Thu, 30 Jan 2025) EllapsedTime: 322.7 seconds RetCode: 0 Status: OK CheckDir: methylclockData.Rcheck Warnings: 0