Package: iModMixData Version: 1.1.0 Command: /home/biocbuild/bbs-3.23-bioc/R/bin/R CMD check --install=check:iModMixData.install-out.txt --library=/home/biocbuild/bbs-3.23-bioc/R/site-library --timings iModMixData_1.1.0.tar.gz StartedAt: 2025-11-20 12:42:40 -0500 (Thu, 20 Nov 2025) EndedAt: 2025-11-20 12:44:38 -0500 (Thu, 20 Nov 2025) EllapsedTime: 117.1 seconds RetCode: 0 Status: OK CheckDir: iModMixData.Rcheck Warnings: 0