Package: iModMixData Version: 1.1.0 Command: /home/biocbuild/bbs-3.23-bioc/R/bin/R CMD build --keep-empty-dirs --no-resave-data iModMixData StartedAt: 2025-11-20 11:26:08 -0500 (Thu, 20 Nov 2025) EndedAt: 2025-11-20 11:26:51 -0500 (Thu, 20 Nov 2025) EllapsedTime: 43.2 seconds RetCode: 0 Status: OK PackageFile: iModMixData_1.1.0.tar.gz PackageFileSize: 11.39 KiB