Package: hgu133plus2CellScore Version: 1.31.0 Command: /home/biocbuild/bbs-3.23-bioc/R/bin/R CMD check --install=check:hgu133plus2CellScore.install-out.txt --library=/home/biocbuild/bbs-3.23-bioc/R/site-library --timings hgu133plus2CellScore_1.31.0.tar.gz StartedAt: 2025-11-11 12:27:12 -0500 (Tue, 11 Nov 2025) EndedAt: 2025-11-11 12:27:49 -0500 (Tue, 11 Nov 2025) EllapsedTime: 37.5 seconds RetCode: 0 Status: WARNINGS CheckDir: hgu133plus2CellScore.Rcheck Warnings: 1