Package: healthyFlowData Version: 1.47.0 Command: /home/biocbuild/bbs-3.22-bioc/R/bin/R CMD check --install=check:healthyFlowData.install-out.txt --library=/home/biocbuild/bbs-3.22-bioc/R/site-library --timings healthyFlowData_1.47.0.tar.gz StartedAt: 2025-10-09 12:30:45 -0400 (Thu, 09 Oct 2025) EndedAt: 2025-10-09 12:31:18 -0400 (Thu, 09 Oct 2025) EllapsedTime: 33.0 seconds RetCode: 0 Status: OK CheckDir: healthyFlowData.Rcheck Warnings: 0