Package: healthyControlsPresenceChecker Version: 1.13.0 Command: /home/biocbuild/bbs-3.22-bioc/R/bin/R CMD build --keep-empty-dirs --no-resave-data healthyControlsPresenceChecker StartedAt: 2025-07-24 11:24:00 -0400 (Thu, 24 Jul 2025) EndedAt: 2025-07-24 11:24:44 -0400 (Thu, 24 Jul 2025) EllapsedTime: 44.6 seconds RetCode: 0 Status: OK PackageFile: healthyControlsPresenceChecker_1.13.0.tar.gz PackageFileSize: 219.9 KiB