Package: harbChIP Version: 1.47.0 Command: /home/biocbuild/bbs-3.22-bioc/R/bin/R CMD INSTALL harbChIP StartedAt: 2025-07-24 10:56:31 -0400 (Thu, 24 Jul 2025) EndedAt: 2025-07-24 10:56:45 -0400 (Thu, 24 Jul 2025) EllapsedTime: 14.2 seconds RetCode: 0 Status: OK