Package: hapmapsnp5 Version: 1.51.0 Command: /home/biocbuild/bbs-3.22-bioc/R/bin/R CMD build --keep-empty-dirs --no-resave-data hapmapsnp5 StartedAt: 2025-07-10 11:21:30 -0400 (Thu, 10 Jul 2025) EndedAt: 2025-07-10 11:23:23 -0400 (Thu, 10 Jul 2025) EllapsedTime: 112.3 seconds RetCode: 0 Status: OK PackageFile: hapmapsnp5_1.51.0.tar.gz PackageFileSize: 59.41 MiB