Package: hapmap500ksty Version: 1.49.0 Command: /home/biocbuild/bbs-3.21-bioc/R/bin/R CMD check --install=check:hapmap500ksty.install-out.txt --library=/home/biocbuild/bbs-3.21-bioc/R/site-library --timings hapmap500ksty_1.49.0.tar.gz StartedAt: 2025-02-06 12:09:30 -0500 (Thu, 06 Feb 2025) EndedAt: 2025-02-06 12:09:42 -0500 (Thu, 06 Feb 2025) EllapsedTime: 12.6 seconds RetCode: 1 Status: ERROR CheckDir: hapmap500ksty.Rcheck Warnings: NA