Package: hapmap100kxba Version: 1.51.0 Command: /home/biocbuild/bbs-3.22-bioc/R/bin/R CMD build --keep-empty-dirs --no-resave-data hapmap100kxba StartedAt: 2025-07-17 11:20:08 -0400 (Thu, 17 Jul 2025) EndedAt: 2025-07-17 11:21:04 -0400 (Thu, 17 Jul 2025) EllapsedTime: 56.5 seconds RetCode: 0 Status: OK PackageFile: hapmap100kxba_1.51.0.tar.gz PackageFileSize: 38.99 MiB