Package: grndata Version: 1.41.0 Command: /home/biocbuild/bbs-3.22-bioc/R/bin/R CMD check --install=check:grndata.install-out.txt --library=/home/biocbuild/bbs-3.22-bioc/R/site-library --timings grndata_1.41.0.tar.gz StartedAt: 2025-10-07 12:24:45 -0400 (Tue, 07 Oct 2025) EndedAt: 2025-10-07 12:25:06 -0400 (Tue, 07 Oct 2025) EllapsedTime: 20.9 seconds RetCode: 0 Status: WARNINGS CheckDir: grndata.Rcheck Warnings: 1