Package: genomationData Version: 1.41.0 Command: /home/biocbuild/bbs-3.22-bioc/R/bin/R CMD check --install=check:genomationData.install-out.txt --library=/home/biocbuild/bbs-3.22-bioc/R/site-library --timings genomationData_1.41.0.tar.gz StartedAt: 2025-10-16 12:25:25 -0400 (Thu, 16 Oct 2025) EndedAt: 2025-10-16 12:25:39 -0400 (Thu, 16 Oct 2025) EllapsedTime: 13.8 seconds RetCode: 0 Status: OK CheckDir: genomationData.Rcheck Warnings: 0