Package: geneLenDataBase Version: 1.45.0 Command: /home/biocbuild/bbs-3.22-bioc/R/bin/R CMD INSTALL geneLenDataBase StartedAt: 2025-07-24 11:01:23 -0400 (Thu, 24 Jul 2025) EndedAt: 2025-07-24 11:02:47 -0400 (Thu, 24 Jul 2025) EllapsedTime: 84.3 seconds RetCode: 0 Status: OK