Package: geneLenDataBase Version: 1.45.0 Command: /home/biocbuild/bbs-3.22-bioc/R/bin/R CMD build --keep-empty-dirs --no-resave-data geneLenDataBase StartedAt: 2025-07-24 11:20:16 -0400 (Thu, 24 Jul 2025) EndedAt: 2025-07-24 11:21:13 -0400 (Thu, 24 Jul 2025) EllapsedTime: 57.4 seconds RetCode: 0 Status: OK PackageFile: geneLenDataBase_1.45.0.tar.gz PackageFileSize: 95.79 MiB