Package: furrowSeg Version: 1.37.0 Command: /home/biocbuild/bbs-3.22-bioc/R/bin/R CMD check --install=check:furrowSeg.install-out.txt --library=/home/biocbuild/bbs-3.22-bioc/R/site-library --timings furrowSeg_1.37.0.tar.gz StartedAt: 2025-10-23 12:23:44 -0400 (Thu, 23 Oct 2025) EndedAt: 2025-10-23 12:31:20 -0400 (Thu, 23 Oct 2025) EllapsedTime: 456.7 seconds RetCode: 0 Status: WARNINGS CheckDir: furrowSeg.Rcheck Warnings: 1