Package: flowWorkspaceData Version: 3.19.0 Command: /home/biocbuild/bbs-3.21-bioc/R/bin/R CMD build --keep-empty-dirs --no-resave-data flowWorkspaceData StartedAt: 2025-02-06 11:18:03 -0500 (Thu, 06 Feb 2025) EndedAt: 2025-02-06 11:18:18 -0500 (Thu, 06 Feb 2025) EllapsedTime: 15.0 seconds RetCode: 0 Status: OK PackageFile: flowWorkspaceData_3.19.0.tar.gz PackageFileSize: 71.15 MiB