Package: fission Version: 1.27.0 Command: /home/biocbuild/bbs-3.21-bioc/R/bin/R CMD build --keep-empty-dirs --no-resave-data fission StartedAt: 2025-01-30 11:17:10 -0500 (Thu, 30 Jan 2025) EndedAt: 2025-01-30 11:17:28 -0500 (Thu, 30 Jan 2025) EllapsedTime: 17.3 seconds RetCode: 0 Status: OK PackageFile: fission_1.27.0.tar.gz PackageFileSize: 426.6 KiB