Package: eoPredData Version: 1.1.0 Command: /home/biocbuild/bbs-3.21-bioc/R/bin/R CMD build --keep-empty-dirs --no-resave-data eoPredData StartedAt: 2025-01-30 11:15:55 -0500 (Thu, 30 Jan 2025) EndedAt: 2025-01-30 11:16:11 -0500 (Thu, 30 Jan 2025) EllapsedTime: 16.4 seconds RetCode: 0 Status: OK PackageFile: eoPredData_1.1.0.tar.gz PackageFileSize: 292.5 KiB