Package: diggitdata Version: 1.41.0 Command: /home/biocbuild/bbs-3.22-bioc/R/bin/R CMD check --install=check:diggitdata.install-out.txt --library=/home/biocbuild/bbs-3.22-bioc/R/site-library --timings diggitdata_1.41.0.tar.gz StartedAt: 2025-10-02 12:14:54 -0400 (Thu, 02 Oct 2025) EndedAt: 2025-10-02 12:15:52 -0400 (Thu, 02 Oct 2025) EllapsedTime: 57.9 seconds RetCode: 0 Status: OK CheckDir: diggitdata.Rcheck Warnings: 0