Package: diffloopdata Version: 1.37.0 Command: /home/biocbuild/bbs-3.22-bioc/R/bin/R CMD build --keep-empty-dirs --no-resave-data diffloopdata StartedAt: 2025-05-01 11:15:31 -0400 (Thu, 01 May 2025) EndedAt: 2025-05-01 11:15:42 -0400 (Thu, 01 May 2025) EllapsedTime: 11.4 seconds RetCode: 0 Status: OK PackageFile: diffloopdata_1.37.0.tar.gz PackageFileSize: 11.08 MiB