Package: derfinderData Version: 2.27.0 Command: /home/biocbuild/bbs-3.22-bioc/R/bin/R CMD check --install=check:derfinderData.install-out.txt --library=/home/biocbuild/bbs-3.22-bioc/R/site-library --timings derfinderData_2.27.0.tar.gz StartedAt: 2025-10-23 12:12:11 -0400 (Thu, 23 Oct 2025) EndedAt: 2025-10-23 12:12:29 -0400 (Thu, 23 Oct 2025) EllapsedTime: 18.0 seconds RetCode: 0 Status: OK CheckDir: derfinderData.Rcheck Warnings: 0