Package: derfinderData Version: 2.25.0 Command: /home/biocbuild/bbs-3.21-bioc/R/bin/R CMD INSTALL derfinderData StartedAt: 2025-01-30 10:55:55 -0500 (Thu, 30 Jan 2025) EndedAt: 2025-01-30 10:55:58 -0500 (Thu, 30 Jan 2025) EllapsedTime: 2.8 seconds RetCode: 0 Status: OK