Package: depmap Version: 1.21.0 Command: /home/biocbuild/bbs-3.21-bioc/R/bin/R CMD INSTALL depmap StartedAt: 2025-01-30 10:57:14 -0500 (Thu, 30 Jan 2025) EndedAt: 2025-01-30 10:57:28 -0500 (Thu, 30 Jan 2025) EllapsedTime: 14.5 seconds RetCode: 0 Status: OK