Package: curatedTBData Version: 2.7.0 Command: /home/biocbuild/bbs-3.23-bioc/R/bin/R CMD INSTALL curatedTBData StartedAt: 2025-11-20 10:59:22 -0500 (Thu, 20 Nov 2025) EndedAt: 2025-11-20 10:59:51 -0500 (Thu, 20 Nov 2025) EllapsedTime: 29.1 seconds RetCode: 0 Status: OK