Package: curatedTBData Version: 2.7.0 Command: /home/biocbuild/bbs-3.23-bioc/R/bin/R CMD check --install=check:curatedTBData.install-out.txt --library=/home/biocbuild/bbs-3.23-bioc/R/site-library --timings curatedTBData_2.7.0.tar.gz StartedAt: 2025-11-18 12:13:07 -0500 (Tue, 18 Nov 2025) EndedAt: 2025-11-18 12:19:23 -0500 (Tue, 18 Nov 2025) EllapsedTime: 376.0 seconds RetCode: 0 Status: WARNINGS CheckDir: curatedTBData.Rcheck Warnings: 2