Package: curatedPCaData Version: 1.5.0 Command: /home/biocbuild/bbs-3.22-bioc/R/bin/R CMD INSTALL curatedPCaData StartedAt: 2025-07-22 10:59:27 -0400 (Tue, 22 Jul 2025) EndedAt: 2025-07-22 11:00:14 -0400 (Tue, 22 Jul 2025) EllapsedTime: 46.5 seconds RetCode: 0 Status: OK