Package: curatedMetagenomicData Version: 3.17.4 Maintainer: Lucas schiffer MaintainerEmail: schiffer.lucas at gmail.com git_url: https://git.bioconductor.org/packages/curatedMetagenomicData git_branch: devel git_last_commit: d23e876 git_last_commit_date: 2025-09-26 09:24:39 -0400 (Fri, 26 Sep 2025)