Package: curatedCRCData Version: 2.39.0 Command: /home/biocbuild/bbs-3.21-bioc/R/bin/R CMD INSTALL curatedCRCData StartedAt: 2025-01-30 10:56:28 -0500 (Thu, 30 Jan 2025) EndedAt: 2025-01-30 10:56:33 -0500 (Thu, 30 Jan 2025) EllapsedTime: 5.4 seconds RetCode: 0 Status: OK