Package: curatedAdipoRNA Version: 1.25.0 Command: /home/biocbuild/bbs-3.22-bioc/R/bin/R CMD check --install=check:curatedAdipoRNA.install-out.txt --library=/home/biocbuild/bbs-3.22-bioc/R/site-library --timings curatedAdipoRNA_1.25.0.tar.gz StartedAt: 2025-10-21 12:11:05 -0400 (Tue, 21 Oct 2025) EndedAt: 2025-10-21 12:13:31 -0400 (Tue, 21 Oct 2025) EllapsedTime: 146.1 seconds RetCode: 0 Status: WARNINGS CheckDir: curatedAdipoRNA.Rcheck Warnings: 1