Package: crisprScoreData Version: 1.13.0 Command: /home/biocbuild/bbs-3.22-bioc/R/bin/R CMD check --install=check:crisprScoreData.install-out.txt --library=/home/biocbuild/bbs-3.22-bioc/R/site-library --timings crisprScoreData_1.13.0.tar.gz StartedAt: 2025-10-07 12:08:32 -0400 (Tue, 07 Oct 2025) EndedAt: 2025-10-07 12:10:25 -0400 (Tue, 07 Oct 2025) EllapsedTime: 113.2 seconds RetCode: 0 Status: OK CheckDir: crisprScoreData.Rcheck Warnings: 0