Package: colonCA Version: 1.49.0 Command: /home/biocbuild/bbs-3.21-bioc/R/bin/R CMD INSTALL colonCA StartedAt: 2025-01-30 10:56:25 -0500 (Thu, 30 Jan 2025) EndedAt: 2025-01-30 10:56:27 -0500 (Thu, 30 Jan 2025) EllapsedTime: 2.7 seconds RetCode: 0 Status: OK