Package: colonCA Version: 1.49.0 Command: /home/biocbuild/bbs-3.21-bioc/R/bin/R CMD build --keep-empty-dirs --no-resave-data colonCA StartedAt: 2025-02-06 11:10:48 -0500 (Thu, 06 Feb 2025) EndedAt: 2025-02-06 11:10:49 -0500 (Thu, 06 Feb 2025) EllapsedTime: 1.0 seconds RetCode: 0 Status: OK PackageFile: colonCA_1.49.0.tar.gz PackageFileSize: 783.3 KiB